BEGIN:VCALENDAR
VERSION:2.0
PRODID:-//hacksw/handcal//NONSGML v1.0//EN
BEGIN:VEVENT
SUMMARY:Les hauts de Ferrals - Ferrals-les-Montagnes  ; Distance - 15,5 km ; Denivele - 569 m ; IBP - 65 ; Covoiturage - 6 € ; Animateur - Solange - Georges; Depart 8h30 ; inscription avant vendredi midi au 06 05 31 20 49
UID:fa8617e7-9f81-4520-84a2-6926e45917c2
DTSTART:20260321T073000Z
DTEND:20260321T160000Z
LOCATION:Localisation   
CATEGORIES:Sportif
STATUS:
URL;VALUE=URI:https://lesmarcheursdesigean.sportsregions.fr/evenements/2026/03/21/les-hauts-de-ferrals-ferrals-les-montagnes-distance-155-km-denivele-569-m-ibp-65-covoiturage-6-eur-animateur-solange-georges-depart-8h30-inscription-avant-vendredi-midi-au-06-05-31-20-49-2416285
END:VEVENT
END:VCALENDAR
